BEGIN:VCALENDAR
VERSION:2.0
PRODID:-//wp-events-plugin.com//7.2.3.1//EN
TZID:America/New_York
X-WR-TIMEZONE:America/New_York
BEGIN:VEVENT
UID:195@mediationtraining.group
DTSTART;TZID=America/New_York:20260712T090000
DTEND;TZID=America/New_York:20260713T180000
DTSTAMP:20251013T023407Z
URL:https://mediationtraining.group/events/circuit-civil-mediation-certifi
 cation-part-2-july-12-13-2026/
SUMMARY:Circuit Civil Mediation Certification Part 2 July 12-13\, 2026
DESCRIPTION:Circuit Civil Mediation Certification Part 2 July 12-13\, 2026
CATEGORIES:Circuit Civil
END:VEVENT
BEGIN:VTIMEZONE
TZID:America/New_York
X-LIC-LOCATION:America/New_York
BEGIN:DAYLIGHT
DTSTART:20260308T030000
TZOFFSETFROM:-0500
TZOFFSETTO:-0400
TZNAME:EDT
END:DAYLIGHT
END:VTIMEZONE
END:VCALENDAR