BEGIN:VCALENDAR
VERSION:2.0
PRODID:-//wp-events-plugin.com//7.2.3.1//EN
TZID:America/New_York
X-WR-TIMEZONE:America/New_York
BEGIN:VEVENT
UID:219@mediationtraining.group
DTSTART;TZID=America/New_York:20261109T090000
DTEND;TZID=America/New_York:20261110T180000
DTSTAMP:20260421T223414Z
URL:https://mediationtraining.group/events/circuit-civil-mediation-certifi
 cation-part-2-nov-9-10-2026/
SUMMARY:Circuit Civil Mediation Certification Part 2\, Nov. 9-10\, 2026
DESCRIPTION:Circuit Civil Mediation Certification Part 2\, Nov. 9-10\, 2026
CATEGORIES:Circuit Civil
END:VEVENT
BEGIN:VTIMEZONE
TZID:America/New_York
X-LIC-LOCATION:America/New_York
BEGIN:STANDARD
DTSTART:20261101T010000
TZOFFSETFROM:-0400
TZOFFSETTO:-0500
TZNAME:EST
END:STANDARD
END:VTIMEZONE
END:VCALENDAR