BEGIN:VCALENDAR
VERSION:2.0
PRODID:-//wp-events-plugin.com//7.2.3.1//EN
TZID:America/New_York
X-WR-TIMEZONE:America/New_York
BEGIN:VEVENT
UID:210@mediationtraining.group
DTSTART;TZID=America/New_York:20260531T090000
DTEND;TZID=America/New_York:20260601T170000
DTSTAMP:20251029T005526Z
URL:https://mediationtraining.group/events/county-mediation-certification-
 training-5-31-6-1-and-6-3-6-4-2026/
SUMMARY:County Mediation Certification Training\, 5/31-6/1 and 6/3-6/4\, 20
 26
DESCRIPTION:County Mediation Certification Training\, 5/31-6/1 and 6/3-6/4\
 , 2026
CATEGORIES:County
END:VEVENT
BEGIN:VTIMEZONE
TZID:America/New_York
X-LIC-LOCATION:America/New_York
BEGIN:DAYLIGHT
DTSTART:20260308T030000
TZOFFSETFROM:-0500
TZOFFSETTO:-0400
TZNAME:EDT
END:DAYLIGHT
END:VTIMEZONE
END:VCALENDAR