BEGIN:VCALENDAR
VERSION:2.0
PRODID:-//wp-events-plugin.com//7.2.3.1//EN
TZID:America/New_York
X-WR-TIMEZONE:America/New_York
BEGIN:VEVENT
UID:217@mediationtraining.group
DTSTART;TZID=America/New_York:20261002T090000
DTEND;TZID=America/New_York:20261006T170000
DTSTAMP:20260421T221634Z
URL:https://mediationtraining.group/events/county-mediation-certification-
 training-oct-2-3-and-5-6-2026/
SUMMARY:County Mediation Certification Training\, Oct. 2-3 and 5-6\, 2026
DESCRIPTION:County Mediation Certification Training\, 10/2-3 and 10/5-6\, 2
 026
CATEGORIES:County
END:VEVENT
BEGIN:VTIMEZONE
TZID:America/New_York
X-LIC-LOCATION:America/New_York
BEGIN:DAYLIGHT
DTSTART:20260308T030000
TZOFFSETFROM:-0500
TZOFFSETTO:-0400
TZNAME:EDT
END:DAYLIGHT
END:VTIMEZONE
END:VCALENDAR