BEGIN:VCALENDAR
VERSION:2.0
PRODID:-//wp-events-plugin.com//7.2.3.1//EN
TZID:America/New_York
X-WR-TIMEZONE:America/New_York
BEGIN:VEVENT
UID:74@mediationtraining.group
DTSTART;TZID=America/New_York:20240216T120000
DTEND;TZID=America/New_York:20240216T141500
DTSTAMP:20231211T190347Z
URL:https://mediationtraining.group/events/lunch-n-learn-lets-talk-about-a
 ttorney-professionalism-in-mediation-2/
SUMMARY:Lunch 'n' Learn | Let's Talk About Attorney Professionalism in Medi
 ation
DESCRIPTION:Let's Talk About:  Attorney Professionalism in Mediation
CATEGORIES:Lunch 'n' Learn
END:VEVENT
BEGIN:VTIMEZONE
TZID:America/New_York
X-LIC-LOCATION:America/New_York
BEGIN:STANDARD
DTSTART:20231105T010000
TZOFFSETFROM:-0400
TZOFFSETTO:-0500
TZNAME:EST
END:STANDARD
END:VTIMEZONE
END:VCALENDAR